Workbook

Sheet 職員表
A1: 【別紙】障害福祉応援金受給職員表（法人単位）
A3: 本表は法人単位でまとめて記載すること。太枠内は令和２年度東京都新型コロナウイルス感染症緊急包括支援事業（障害分）交付要綱（令和２年７月１７日２福保障地第５７４号）第７条による慰労金の申請を東京都へ行った際に提出し、東京都から交付の決定を受けた者に係る内容をそのまま入力してください。
A4: ※ 東久留米市内に住所を有する障害福祉サービス施設・事業所等のみ記載してください。
B5: 氏名（漢字） | C5: 氏名（全角カナ） | D5: 生年月日（西暦） | G5: 本人の住所 | H5: 主たる勤務先 | K5: 分類 | O5: 応援金 (万円) | P5: 確認事項 | T5: 支払い実績
E6: （確認用） | F6: （確認用） | H6: 事業所番号 | I6: 提供サービス | J6: 事業所・施設の名称 | K6: 施設区分 | L6: 対応区分 | M6: (計算用) | N6: 他の施設等との期間通算がある場合その施設名 | P6: 委任状の有無 | Q6: 他法人での応援金の申請の有無 | R6: 業務委託による 従事者 | S6: 重複 申請者 確認用 | T6: 支払年月日 （西暦） | U6: 支払金額 （万円）
A7: 1 | E7: =B7&C7&D7 | F7: =IF(E7="","",COUNTIF($E$7:$E$86,E7)) | M7: =K7&L7 | O7: =IFERROR(VLOOKUP(M7,計算用②!$A$1:$B$3,2,FALSE),"") | S7: =IF(F7>=2,"","可")
A8: =A7+1 -> 2 | E8: =B8&C8&D8 | F8: =IF(E8="","",COUNTIF($E$7:$E$86,E8)) | M8: =K8&L8 | O8: =IFERROR(VLOOKUP(M8,計算用②!$A$1:$B$3,2,FALSE),"") | S8: =IF(F8>=2,"","可")
A9: =A8+1 -> 3 | E9: =B9&C9&D9 | F9: =IF(E9="","",COUNTIF($E$7:$E$86,E9)) | M9: =K9&L9 | O9: =IFERROR(VLOOKUP(M9,計算用②!$A$1:$B$3,2,FALSE),"") | S9: =IF(F9>=2,"","可")
A10: =A9+1 -> 4 | E10: =B10&C10&D10 | F10: =IF(E10="","",COUNTIF($E$7:$E$86,E10)) | M10: =K10&L10 | O10: =IFERROR(VLOOKUP(M10,計算用②!$A$1:$B$3,2,FALSE),"") | S10: =IF(F10>=2,"","可")
A11: =A10+1 -> 5 | E11: =B11&C11&D11 | F11: =IF(E11="","",COUNTIF($E$7:$E$86,E11)) | M11: =K11&L11 | O11: =IFERROR(VLOOKUP(M11,計算用②!$A$1:$B$3,2,FALSE),"") | S11: =IF(F11>=2,"","可")
A12: =A11+1 -> 6 | E12: =B12&C12&D12 | F12: =IF(E12="","",COUNTIF($E$7:$E$86,E12)) | M12: =K12&L12 | O12: =IFERROR(VLOOKUP(M12,計算用②!$A$1:$B$3,2,FALSE),"") | S12: =IF(F12>=2,"","可")
A13: =A12+1 -> 7 | E13: =B13&C13&D13 | F13: =IF(E13="","",COUNTIF($E$7:$E$86,E13)) | M13: =K13&L13 | O13: =IFERROR(VLOOKUP(M13,計算用②!$A$1:$B$3,2,FALSE),"") | S13: =IF(F13>=2,"","可")
A14: =A13+1 -> 8 | E14: =B14&C14&D14 | F14: =IF(E14="","",COUNTIF($E$7:$E$86,E14)) | M14: =K14&L14 | O14: =IFERROR(VLOOKUP(M14,計算用②!$A$1:$B$3,2,FALSE),"") | S14: =IF(F14>=2,"","可")
A15: =A14+1 -> 9 | E15: =B15&C15&D15 | F15: =IF(E15="","",COUNTIF($E$7:$E$86,E15)) | M15: =K15&L15 | O15: =IFERROR(VLOOKUP(M15,計算用②!$A$1:$B$3,2,FALSE),"") | S15: =IF(F15>=2,"","可")
A16: =A15+1 -> 10 | E16: =B16&C16&D16 | F16: =IF(E16="","",COUNTIF($E$7:$E$86,E16)) | M16: =K16&L16 | O16: =IFERROR(VLOOKUP(M16,計算用②!$A$1:$B$3,2,FALSE),"") | S16: =IF(F16>=2,"","可")
A17: =A16+1 -> 11 | E17: =B17&C17&D17 | F17: =IF(E17="","",COUNTIF($E$7:$E$86,E17)) | M17: =K17&L17 | O17: =IFERROR(VLOOKUP(M17,計算用②!$A$1:$B$3,2,FALSE),"") | S17: =IF(F17>=2,"","可")
A18: =A17+1 -> 12 | E18: =B18&C18&D18 | F18: =IF(E18="","",COUNTIF($E$7:$E$86,E18)) | M18: =K18&L18 | O18: =IFERROR(VLOOKUP(M18,計算用②!$A$1:$B$3,2,FALSE),"") | S18: =IF(F18>=2,"","可")
A19: =A18+1 -> 13 | E19: =B19&C19&D19 | F19: =IF(E19="","",COUNTIF($E$7:$E$86,E19)) | M19: =K19&L19 | O19: =IFERROR(VLOOKUP(M19,計算用②!$A$1:$B$3,2,FALSE),"") | S19: =IF(F19>=2,"","可")
... A86: =A85+1 -> 80 | E86: =B86&C86&D86 | F86: =IF(E86="","",COUNTIF($E$7:$E$86,E86)) | M86: =K86&L86 | O86: =IFERROR(VLOOKUP(M86,計算用②!$A$1:$B$3,2,FALSE),"") | S86: =IF(F86>=2,"","可")

Sheet 計算用
B1: 2-1 | E1: 2-2 | F1: 4 | L1: ※本シートは絶対に編集しないこと。
B2: 共通 | E2: 多機能型居室 | F2: 共通
A3: 療養介護 | B3: 2374 | C3: /事業所 | F3: 200 | G3: /事業所
A4: 生活介護 | B4: 757 | C4: /事業所 | F4: 200 | G4: /事業所
A5: 自立訓練（機能訓練） | B5: 346 | C5: /事業所 | F5: 200 | G5: /事業所
A6: 自立訓練（生活訓練） | B6: 273 | C6: /事業所 | F6: 200 | G6: /事業所
A7: 宿泊型自立訓練 | B7: 273 | C7: /事業所 | E7: 3000 | F7: 200 | G7: /事業所
A8: 就労移行支援 | B8: 265 | C8: /事業所 | F8: 200 | G8: /事業所
A9: 就労移行支援（養成施設） | B9: 265 | C9: /事業所 | F9: 200 | G9: /事業所
A10: 就労継続支援Ａ型 | B10: 335 | C10: /事業所 | F10: 200 | G10: /事業所
A11: 就労継続支援Ｂ型 | B11: 353 | C11: /事業所 | F11: 200 | G11: /事業所
A12: 就労定着支援 | B12: 52 | C12: /事業所 | F12: 200 | G12: /事業所
A13: 自立生活援助 | B13: 27 | C13: /事業所 | F13: 200 | G13: /事業所
A14: 児童発達支援 | B14: 380 | C14: /事業所 | F14: 200 | G14: /事業所
A15: 医療型児童発達支援 | B15: 240 | C15: /事業所 | F15: 200 | G15: /事業所
A16: 放課後等デイサービス | B16: 360 | C16: /事業所 | F16: 200 | G16: /事業所
A17: 短期入所 | B17: 204 | C17: /事業所 | E17: 3000 | F17: 200 | G17: /事業所
A18: 施設入所支援 | B18: 1215 | C18: /施設 | E18: 3000
A19: 共同生活援助（介護サービス包括型） | B19: 402 | C19: /事業所 | E19: 3000
A20: 共同生活援助（日中サービス支援型） | B20: 358 | C20: /事業所 | E20: 3000
A21: 共同生活援助（外部サービス利用型） | B21: 180 | C21: /事業所 | E21: 3000
A22: 福祉型障害児入所施設 | B22: 1182 | C22: /施設 | E22: 3000
A23: 医療型障害児入所施設 | B23: 635 | C23: /施設 | E23: 3000
A24: 居宅介護 | B24: 115 | C24: /事業所 | F24: 200 | G24: /事業所
A25: 重度訪問介護 | B25: 188 | C25: /事業所 | F25: 200 | G25: /事業所
A26: 同行援護 | B26: 65 | C26: /事業所 | F26: 200 | G26: /事業所
A27: 行動援護 | B27: 115 | C27: /事業所 | F27: 200 | G27: /事業所
A28: 居宅訪問型児童発達支援 | B28: 46 | C28: /事業所 | F28: 200 | G28: /事業所
A29: 保育所等訪問支援 | B29: 38 | C29: /事業所 | F29: 200 | G29: /事業所
A30: 計画相談支援 | B30: 60 | C30: /事業所 | F30: 200 | G30: /事業所
A31: 地域移行支援 | B31: 44 | C31: /事業所 | F31: 200 | G31: /事業所
A32: 地域定着支援 | B32: 46 | C32: /事業所
A33: 障害児相談支援 | B33: 44 | C33: /事業所 | F33: 200 | G33: /事業所
A34: 重度障害者等包括支援
A37: ①
A38: ②
A39: ③
A40: ④
A42: 施設区分
A43: 陽性者(濃厚接触者)発生施設 | B43: 訪問系で陽性者等に1日以上対応又は訪問系以外で1日以上勤務 | C43: 訪問系で陽性者等への対応はないが対象期間に10日以上勤務
...

Sheet 計算用②
A1: 陽性者(濃厚接触者)発生施設訪問系で陽性者等に1日以上対応又は訪問系以外で1日以上勤務 | B1: 1
A2: 陽性者(濃厚接触者)発生施設訪問系で陽性者等への対応はないが対象期間に10日以上勤務 | B2: 1
A3: その他の施設対象期間に10日以上勤務 | B3: 1
